BEGIN:VCALENDAR
VERSION:2.0
PRODID:-//Parc Sanitari Sant Joan de Déu - ECPv6.5.1.5//NONSGML v1.0//EN
CALSCALE:GREGORIAN
METHOD:PUBLISH
X-WR-CALNAME:Parc Sanitari Sant Joan de Déu
X-ORIGINAL-URL:https://www.pssjd.org
X-WR-CALDESC:Esdeveniments per Parc Sanitari Sant Joan de Déu
REFRESH-INTERVAL;VALUE=DURATION:PT1H
X-Robots-Tag:noindex
X-PUBLISHED-TTL:PT1H
BEGIN:VTIMEZONE
TZID:Europe/Madrid
BEGIN:DAYLIGHT
TZOFFSETFROM:+0100
TZOFFSETTO:+0200
TZNAME:CEST
DTSTART:20210328T010000
END:DAYLIGHT
BEGIN:STANDARD
TZOFFSETFROM:+0200
TZOFFSETTO:+0100
TZNAME:CET
DTSTART:20211031T010000
END:STANDARD
END:VTIMEZONE
BEGIN:VEVENT
DTSTART;TZID=Europe/Madrid:20210706T180000
DTEND;TZID=Europe/Madrid:20210706T190000
DTSTAMP:20260424T151711
CREATED:20210617T094745Z
LAST-MODIFIED:20210617T094908Z
UID:20359-1625594400-1625598000@www.pssjd.org
SUMMARY:Webinar “El TDAH al llarg de la vida” de SOM Salut Mental 360º
DESCRIPTION:[vc_row][vc_column][vc_column_text css=”.vc_custom_1623923147399{margin-bottom: 0px !important;}”]El pròxim 6 de juliol a les 18 hores\, tindrà lloc el webinar “ El TDAH al llarg de la vida” organitzat per la plataforma SOM Salut Mental 360. \nEl Trastorn per Dèficit d’Atenció i Hiperactivitat (TDAH) és un trastorn del neurodesenvolupament que afecta l’atenció\, als processos cognitius i a la psicomotricitat l’individu. Aquest trastorn s’inicia a la infància tot i que\, el diagnòstic pot aparèixer més tard\, durant l’adolescència o\, fins i tot\, en l’edat adulta. La prevalença del TDAH en la població adulta es calcula entre el 3-4%. \nL’objectiu d’aquesta trobada digital és abordar les necessitats de les persones amb TDAH en les diferents etapes de la seva vida\, així com les de les seves famílies. \nAquest webinar comptarà amb la presència del Dr. Miquel Casas Brugué\, director del programa SJD MIND Escoles de l’Hospital Sant Joan de Déu de Barcelona; el Dr. José Ángel Alda\, doctor en Medicina i Cirurgia\, i coordinador de la unitat de TDAH de l’Hospital Sant Joan de Déu de Barcelona; Marta Borralleras Puig\, mestre d’educació infantil i directora de l’Escola Puiggraciós; i Ana Gómez Salcedo\, persona amb TDAH i sòcia fundadora de la Asociación Madrileña de Adultos con TDAH (AMATDAH) \n\nEl webinar es farà a través de la plataforma Zoom i per participar-hi\, haureu de fer la vostra inscripció\, de forma gratuïta\, mitjançant aquest enllaç: https://bit.ly/3xxofdd\n\n  \n[/vc_column_text][/vc_column][/vc_row]
URL:https://www.pssjd.org/jornada/webinar-el-tdah-al-llarg-de-la-vida-de-som-salut-mental-360o
CATEGORIES:Webinar
ATTACH;FMTTYPE=image/png:https://www.pssjd.org/wp-content/uploads/2025/01/default-thumbnail.png
END:VEVENT
END:VCALENDAR