BEGIN:VCALENDAR
VERSION:2.0
PRODID:-//Parc Sanitari Sant Joan de Déu - ECPv6.5.1.5//NONSGML v1.0//EN
CALSCALE:GREGORIAN
METHOD:PUBLISH
X-ORIGINAL-URL:https://www.pssjd.org
X-WR-CALDESC:Esdeveniments per Parc Sanitari Sant Joan de Déu
REFRESH-INTERVAL;VALUE=DURATION:PT1H
X-Robots-Tag:noindex
X-PUBLISHED-TTL:PT1H
BEGIN:VTIMEZONE
TZID:Europe/Madrid
BEGIN:DAYLIGHT
TZOFFSETFROM:+0100
TZOFFSETTO:+0200
TZNAME:CEST
DTSTART:20210328T010000
END:DAYLIGHT
BEGIN:STANDARD
TZOFFSETFROM:+0200
TZOFFSETTO:+0100
TZNAME:CET
DTSTART:20211031T010000
END:STANDARD
END:VTIMEZONE
BEGIN:VEVENT
DTSTART;TZID=Europe/Madrid:20211019T180000
DTEND;TZID=Europe/Madrid:20211019T190000
DTSTAMP:20260423T002655
CREATED:20210922T081827Z
LAST-MODIFIED:20211004T122953Z
UID:20665-1634666400-1634670000@www.pssjd.org
SUMMARY:Webinar: Envelliment actiu. Claus per a una vellesa amb millor salut mental
DESCRIPTION:[vc_row][vc_column][vc_column_text css=”.vc_custom_1632298651700{margin-bottom: 0px !important;}”]L’envelliment és un procés evolutiu\, dinàmic\, una etapa més del cicle vital de la persona. Segons dades del Fons de Població de les Nacions Unides\, el 9\,6% de la població mundial té 65 anys o més i\, aquest percentatge\, augmenta fins el 19\,7% en els països més desenvolupats. L’esperança de vida ha anat augmentant al llarg dels anys i actualment està en els 71 a 75 anys\, essent encara més alta en els països desenvolupats. \nAixí doncs\, les persones viuen més anys i la majoria ho fan en unes condicions físiques i psíquiques que les permeten viure de forma autònoma i gestionar la seva pròpia vida\, però també és cert que\, a mesura que envellim\, és més probable que necessitem suport d’altres persones en la nostra vida quotidiana i siguem una mica més dependents. \nÉs important arribar a la vellesa amb la millor qualitat de vida possible. L’Organització Mundial de la Salut (OMS) defineix l’envelliment actiu com «el procés d’optimització de les oportunitats de salut (física\, mental i social)\, participació i seguretat amb la finalitat de millorar la qualitat de vida de les persones a mesura que envelleixen». \nApunta’t al webinar “Envelliment actiu. Claus per a una vellesa amb millor salut mental”\, organitzat per la plataforma SOM Salut Mental 360º que tindrà lloc el pròxim dimarts 19 d’octubre a les 18 hores. \n\nModera: \n\n\n\n\n\n\n\nDra. Montserrat García Oliva\nDirectora del Grau d’Educació Social i del Màster de Gerontologia i promoció de l’autonomia personal. Facultat d’Educació i Treball Social\nFundació Pere Tarrés -Universitat Ramon Llull\n\n\n\n\n\n\n\nPonents:\n\n\n\n\n\n\n\nDra. Maite Garolera Freixa Doctora en Psicologia. Especialista en psicologia clínica i experta en neuropsicologia. Responsable de la Unitat de Neuropsicologia i del Grup Recerca Cervell Cognició i Conducta (C3-CST) Consorci Sanitari de Terrassa\n\n\n\n\n\n\n\n\n\n\n\nIsabel Llimargas Doña\nInfermera especialista en Geriatria. Infermera referent del Grup 65 del Col·legi Oficial d’Infermeres i Infermers de Barcelona\nFundació de L’Asil Hospital de la Garriga\n\n\n\n\n\n\n\n\n\n\n\nPalmira Rius Tormo\nVoluntària Sant Joan de Déu Terres de Lleida\n\n  \n\n\n\n\n\n\n[/vc_column_text][/vc_column][/vc_row]
URL:https://www.pssjd.org/jornada/webinar-envelliment-actiu-claus-per-a-una-vellesa-amb-millor-salut-mental
CATEGORIES:Webinar
ATTACH;FMTTYPE=image/png:https://www.pssjd.org/wp-content/uploads/2025/01/default-thumbnail.png
END:VEVENT
END:VCALENDAR