BEGIN:VCALENDAR
VERSION:2.0
PRODID:-//Parc Sanitari Sant Joan de Déu - ECPv6.5.1.5//NONSGML v1.0//EN
CALSCALE:GREGORIAN
METHOD:PUBLISH
X-WR-CALNAME:Parc Sanitari Sant Joan de Déu
X-ORIGINAL-URL:https://www.pssjd.org
X-WR-CALDESC:Esdeveniments per Parc Sanitari Sant Joan de Déu
REFRESH-INTERVAL;VALUE=DURATION:PT1H
X-Robots-Tag:noindex
X-PUBLISHED-TTL:PT1H
BEGIN:VTIMEZONE
TZID:Europe/Madrid
BEGIN:DAYLIGHT
TZOFFSETFROM:+0100
TZOFFSETTO:+0200
TZNAME:CEST
DTSTART:20250330T010000
END:DAYLIGHT
BEGIN:STANDARD
TZOFFSETFROM:+0200
TZOFFSETTO:+0100
TZNAME:CET
DTSTART:20251026T010000
END:STANDARD
END:VTIMEZONE
BEGIN:VEVENT
DTSTART;TZID=Europe/Madrid:20250529T080000
DTEND;TZID=Europe/Madrid:20250529T144500
DTSTAMP:20260420T060243
CREATED:20250509T101122Z
LAST-MODIFIED:20250509T101318Z
UID:56475-1748505600-1748529900@www.pssjd.org
SUMMARY:IV Jornada Assistencial de l’Hospital SJD Sant Boi
DESCRIPTION:El pròxim 29 de maig tindrà lloc\, en format híbrid i presencial a l’Auditori del Centre Social del Parc Sanitari Sant Joan de Déu\, la IV Jornada Assistencial de l’Hospital Sant Joan de Déu Sant Boi\, sota el lema ‘Processos assistencials i avenços en la recerca’. \nDesprés de quatre edicions\, la jornada modifica el seu format inicial\, s’obre a la participació de públic extern i dona veu a professionals d’altres hospitals i entitats. Posa el focus en dues àrees clau on l’Hospital SJD Sant Boi cerca l’excel·lència: l’atenció a les persones grans i l’atenció perinatal\, els dos grans temes que composen els primers blocs dels programa. I serà a partir d’aquestes dues temàtiques des d’on s’aniran presentant els principals projectes assistencials que els diferents serveis i unitats de l’Hospital han desenvolupat al llarg de l’any\, amb l’objectiu de donar a conèixer les noves tècniques i millorar el coneixement dels processos assistencials en aquestes dues àrees. \nInscripcions i programa en aquest enllaç.
URL:https://www.pssjd.org/jornada/iv-jornada-assistencial-de-lhospital-sjd-sant-boi
CATEGORIES:Jornada
ATTACH;FMTTYPE=image/jpeg:https://www.pssjd.org/wp-content/uploads/2025/04/2025_02_jornada_hospitalsjdsb_web.jpg
END:VEVENT
END:VCALENDAR