BEGIN:VCALENDAR
VERSION:2.0
PRODID:-//Parc Sanitari Sant Joan de Déu - ECPv6.5.1.5//NONSGML v1.0//EN
CALSCALE:GREGORIAN
METHOD:PUBLISH
X-ORIGINAL-URL:https://www.pssjd.org
X-WR-CALDESC:Esdeveniments per Parc Sanitari Sant Joan de Déu
REFRESH-INTERVAL;VALUE=DURATION:PT1H
X-Robots-Tag:noindex
X-PUBLISHED-TTL:PT1H
BEGIN:VTIMEZONE
TZID:Europe/Madrid
BEGIN:DAYLIGHT
TZOFFSETFROM:+0100
TZOFFSETTO:+0200
TZNAME:CEST
DTSTART:20260329T010000
END:DAYLIGHT
BEGIN:STANDARD
TZOFFSETFROM:+0200
TZOFFSETTO:+0100
TZNAME:CET
DTSTART:20261025T010000
END:STANDARD
END:VTIMEZONE
BEGIN:VEVENT
DTSTART;TZID=Europe/Madrid:20260312T083000
DTEND;TZID=Europe/Madrid:20260312T140000
DTSTAMP:20260421T042125
CREATED:20260206T083126Z
LAST-MODIFIED:20260206T105347Z
UID:59583-1773304200-1773324000@www.pssjd.org
SUMMARY:I Jornada Ferides 360
DESCRIPTION:Sota el lema “Ferides 360: Experiència\, coneixement i innovació”\, el pròxim 12 de març tindrà lloc a Sant Boi de Llobregat la I Jornada Ferides 360\, coorganitzada pel Parc Sanitari Sant Joan de Déu\, el Campus Docent Sant Joan de Déu i Gerència d’Atenció Primària i la Comunitat del Baix Llobregat. \nAquest esdeveniment neix amb la voluntat de consolidar-se com un espai de referència i trobada per a tots els professionals de la salut que es dediquen a l’abordatge de les ferides complexes. En un entorn assistencial cada cop més exigent\, l’intercanvi d’experiències\, l’actualització del coneixement i l’impuls de la innovació són pilars fonamentals per oferir una atenció d’excel·lència a les persones ateses. \nAl llarg de la jornada\, s’exploraran les darreres tendències en el tractament de ferides cròniques\, s’analitzarà l’estat actual de la recerca i es debatrà sobre reptes futurs en la formació universitària i de postgrau. A més\, es comptarà amb un espai pràctic de tallers especialitzats en àrees clau com la compressió terapèutica\, l’ecografia diagnòstica i l’abordatge del peu diabètic\, entre d’altres. \nPrograma i inscripcions al següent enllaç.
URL:https://www.pssjd.org/jornada/59583
LOCATION:Auditori Dr. Antoni Pujadas (Parc Sanitari Sant Joan de Déu)\, C. Dr. Antoni Pujadas 42\, Sant Boi de Llobregat\, 08830\, Espanya
CATEGORIES:Jornada
ATTACH;FMTTYPE=image/png:https://www.pssjd.org/wp-content/uploads/2026/02/agenda-web.png
END:VEVENT
BEGIN:VEVENT
DTSTART;TZID=Europe/Madrid:20260317T090000
DTEND;TZID=Europe/Madrid:20260317T133000
DTSTAMP:20260421T042125
CREATED:20260219T145645Z
LAST-MODIFIED:20260219T145645Z
UID:59750-1773738000-1773754200@www.pssjd.org
SUMMARY:Jornada portes obertes residents
DESCRIPTION:El dimarts 17 de març\, el Parc Sanitari Sant Joan de Déu oferirà la jornada anual de portes obertes\, en format presencial i virtual\, als futurs residents MIR\, PIR i IIR\, que han d’escollir l’especialitat i el centre de formació per als pròxims anys. Aquesta trobada de caràcter anual permet donar a conèixer el Parc Sanitari SJD com una institució que fomenta una docència de qualitat\, en l’àmbit de la formació especialitzada. Cal inscripció prèvia\, aquí.
URL:https://www.pssjd.org/jornada/jornada-portes-obertes-residents
LOCATION:Sala d’actes Rise Center (Parc Sanitari Sant Joan de Déu)
CATEGORIES:Docència
ATTACH;FMTTYPE=image/png:https://www.pssjd.org/wp-content/uploads/2026/02/portes-obertes-residents_agendaweb.png
END:VEVENT
BEGIN:VEVENT
DTSTART;TZID=Europe/Madrid:20260320T110000
DTEND;TZID=Europe/Madrid:20260320T200000
DTSTAMP:20260421T042125
CREATED:20260220T101719Z
LAST-MODIFIED:20260224T110640Z
UID:59766-1774004400-1774036800@www.pssjd.org
SUMMARY:El Brain Film Fest torna al Parc
DESCRIPTION:La programació començarà al matí amb una sessió de curtmetratges\, seguida d’un col·loqui protagonitzat per usuaris i professionals que han participat en dues de les peces vinculades al Parc Sanitari SJD. A la tarda\, el festival oferirà dues projeccions centrades en experiències vinculades al Trastorn de l’Espectre Autista (TEA) i al síndrome de Tourette\, cadascuna amb un debat posterior que donarà veu a professionals i persones ateses: ‘Her difference’ i  ‘Incontrolable’.\n\n\n\n\nReserva les teves entrades AQUÍ
URL:https://www.pssjd.org/jornada/el-brain-film-fest-torna-al-parc
LOCATION:Auditori Dr. Antoni Pujadas (Parc Sanitari Sant Joan de Déu)\, C. Dr. Antoni Pujadas 42\, Sant Boi de Llobregat\, 08830\, Espanya
CATEGORIES:Torrents d'Art
ATTACH;FMTTYPE=image/png:https://www.pssjd.org/wp-content/uploads/2026/02/imatge-brain-per-web.png
END:VEVENT
END:VCALENDAR